BEGIN:VCALENDAR
VERSION:2.0
PRODID:-//Waikato Property Investors Association - ECPv4.1.0.1//NONSGML v1.0//EN
CALSCALE:GREGORIAN
METHOD:PUBLISH
X-WR-CALNAME:Waikato Property Investors Association
X-ORIGINAL-URL:https://www.waikatopia.org.nz
X-WR-CALDESC:Events for Waikato Property Investors Association
BEGIN:VEVENT
DTSTART;TZID="UTC+13":20190911T193000
DTEND;TZID="UTC+13":20190911T211500
DTSTAMP:20210120T022622
CREATED:20181205T224405
LAST-MODIFIED:20190808T002448
UID:3183-1568230200-1568236500@www.waikatopia.org.nz
SUMMARY:September 2019 Event - Get more\, and make it legal
DESCRIPTION:We’ve all heard the horror stories of landlords getting taken to the tenancy tribunal for unconsented or illegal dwellings - This event is designed to inform you how to avoid that same fate!\n\nLouise Feathers\, Louise Feathers Planning\, will take us through the world of consents\, including those you won’t expect. Louise has over 15 years' experience working on projects of all sizes and specialises in urban design\, inner-city regeneration and local heritage planning.\n\nScotney Williams is a tenancy law and property management expert. Scotney will share his extensive knowledge and experience with illegal dwelling cases\, how the tenancy tribunal treats such cases as well as giving us advice on how to deal with any potential pitfalls we may have with unconsented dwellings or extensions.\n\n \n\nTime: Doors open 7:10pm for 7.30pm Start\n\nVenue: The Pavilion of the Hamilton Workingmen's Club\, 45 Commerce Street\, Frankton\, Hamilton.\n\nLight supper served and cash bar available.\n\nMembers complimentary\, Guests $40.00 per person unless accompanied by a current member. Guests complimentary for one visit only. Click here for guest registrations.\n\n 
URL:https://www.waikatopia.org.nz/event/sept-2019/
LOCATION:Hillcrest Rd\, Hamilton\, New Zealand
CATEGORIES:Monthly Events
ORGANIZER;CN="Jessie%20Rosser":MAILTO:admin@waikatopia.org.nz
END:VEVENT
END:VCALENDAR